BEGIN:VCALENDAR
VERSION:2.0
PRODID:-//hacksw/handcal//NONSGML v1.0//EN
CALSCALE:GREGORIAN
BEGIN:VTIMEZONE
TZID:America/New_York
BEGIN:DAYLIGHT
TZOFFSETFROM:-0600
TZNAME:MDT
TZOFFSETTO:-0600
END:DAYLIGHT
END:VTIMEZONE
DTSTAMP:20260421T193828Z
UID:69e80a74d43e6
BEGIN:VEVENT
LOCATION:Laurens Branch (MAIN), 1017 W Main St, Laurens, SC US 29360
DESCRIPTION:<p>This month's title is Lessons in Chemistry by Bonnie Garmus.</p>
DTSTART;TZID=America/New_York:20260430T150000
DTEND;TZID=America/New_York:20260430T160000
SUMMARY:Laurens Book Club
URL;VALUE=URI:/laurens-book-club-16
END:VEVENT
END:VCALENDAR