BEGIN:VCALENDAR
VERSION:2.0
PRODID:-//hacksw/handcal//NONSGML v1.0//EN
CALSCALE:GREGORIAN
BEGIN:VTIMEZONE
TZID:America/New_York
BEGIN:DAYLIGHT
TZOFFSETFROM:-0600
TZNAME:MDT
TZOFFSETTO:-0600
END:DAYLIGHT
END:VTIMEZONE
DTSTAMP:20260421T192035Z
UID:69e80643d86d9
BEGIN:VEVENT
LOCATION:Laurens Branch (MAIN), 1017 W Main St, Laurens, SC US 29360
DESCRIPTION:<p>Help us use our leftover art supplies! In this hour-long free-craft event, you can make whatever you want with the supplies we put out. Good art, bad art--all is welcome!</p>
DTSTART;TZID=America/New_York:20260430T160000
DTEND;TZID=America/New_York:20260430T170000
SUMMARY:Clear the Closet Art Day
URL;VALUE=URI:/clear-closet-art-day-6
END:VEVENT
END:VCALENDAR