BEGIN:VCALENDAR
VERSION:2.0
PRODID:-//hacksw/handcal//NONSGML v1.0//EN
CALSCALE:GREGORIAN
BEGIN:VTIMEZONE
TZID:America/New_York
BEGIN:DAYLIGHT
TZOFFSETFROM:-0600
TZNAME:MDT
TZOFFSETTO:-0600
END:DAYLIGHT
END:VTIMEZONE
DTSTAMP:20260421T085917Z
UID:69e774a55a24f
BEGIN:VEVENT
LOCATION:Clinton Branch, 304 W Pitts St, Clinton, SC US 29325
DESCRIPTION:<p>Enjoy free tea and coffee while you draw, paint, and unwind! This program provides adults and teens a low-stress, relaxing space to have fun through art. No matter your skill level, you will find a welcoming environment to learn easy techniques, express yourself, and boost your well-being.<br>&nbsp;</p>
DTSTART;TZID=America/New_York:20260423T160000
DTEND;TZID=America/New_York:20260423T173000
SUMMARY:Sip & Sketch
URL;VALUE=URI:/sip-sketch-0
END:VEVENT
END:VCALENDAR