BEGIN:VCALENDAR
VERSION:2.0
PRODID:-//hacksw/handcal//NONSGML v1.0//EN
CALSCALE:GREGORIAN
BEGIN:VTIMEZONE
TZID:America/New_York
BEGIN:DAYLIGHT
TZOFFSETFROM:-0600
TZNAME:MDT
TZOFFSETTO:-0600
END:DAYLIGHT
END:VTIMEZONE
DTSTAMP:20260420T120602Z
UID:69e64eea17487
BEGIN:VEVENT
LOCATION:Clinton Branch, 304 W Pitts St, Clinton, SC US 29325
DESCRIPTION:<p>Free tech help every Wednesday at the Clinton Branch Library! Visit to learn about the one-on-one support you can receive for 30 minutes every Wednesday with library asssistant, Jayson.</p>
DTSTART;TZID=America/New_York:20260422T110000
DTEND;TZID=America/New_York:20260422T121500
SUMMARY:Introduction to: Tech Wednesdays
URL;VALUE=URI:/introduction-tech-wednesdays-0
END:VEVENT
END:VCALENDAR