BEGIN:VCALENDAR
VERSION:2.0
PRODID:-//hacksw/handcal//NONSGML v1.0//EN
CALSCALE:GREGORIAN
BEGIN:VTIMEZONE
TZID:America/New_York
BEGIN:DAYLIGHT
TZOFFSETFROM:-0600
TZNAME:MDT
TZOFFSETTO:-0600
END:DAYLIGHT
END:VTIMEZONE
DTSTAMP:20260420T120932Z
UID:69e64fbc1160d
BEGIN:VEVENT
LOCATION:Laurens Branch (MAIN), 1017 W Main St, Laurens, SC US 29360
DESCRIPTION:<p>Join us for Library Storytime—where books come to life through fun stories, songs, and activities! Perfect for young children and their caregivers to enjoy together.</p>
DTSTART;TZID=America/New_York:20260422T100000
DTEND;TZID=America/New_York:20260422T104500
SUMMARY:Story Time - LAU (SPRING) MORNING
URL;VALUE=URI:/story-time-lau-spring-morning-26
END:VEVENT
END:VCALENDAR