BEGIN:VCALENDAR
VERSION:2.0
PRODID:-//hacksw/handcal//NONSGML v1.0//EN
CALSCALE:GREGORIAN
BEGIN:VTIMEZONE
TZID:America/New_York
BEGIN:DAYLIGHT
TZOFFSETFROM:-0600
TZNAME:MDT
TZOFFSETTO:-0600
END:DAYLIGHT
END:VTIMEZONE
DTSTAMP:20260420T121201Z
UID:69e650518f468
BEGIN:VEVENT
LOCATION:Laurens Branch (MAIN), 1017 W Main St, Laurens, SC US 29360
DESCRIPTION:<p>Do you have a favorite character, animal, or book that you want to carry everywhere? Come learn how to use a button-maker and take home your masterpiece.</p>
DTSTART;TZID=America/New_York:20260423T160000
DTEND;TZID=America/New_York:20260423T170000
SUMMARY:Crafternooners: Button Making
URL;VALUE=URI:/crafternooners-button-making-0
END:VEVENT
END:VCALENDAR