BEGIN:VCALENDAR
VERSION:2.0
PRODID:-//hacksw/handcal//NONSGML v1.0//EN
CALSCALE:GREGORIAN
BEGIN:VTIMEZONE
TZID:America/New_York
BEGIN:DAYLIGHT
TZOFFSETFROM:-0600
TZNAME:MDT
TZOFFSETTO:-0600
END:DAYLIGHT
END:VTIMEZONE
DTSTAMP:20260424T130058Z
UID:69eba1ca8a010
BEGIN:VEVENT
LOCATION:Laurens Branch (MAIN), 1017 W Main St, Laurens, SC US 29360
DESCRIPTION:<p>Create your own delicious masterpiece and bring it in to the Laurens Library to display at our 2nd annual Gingerbread House Competition!</p>

<ul>
	<li>Entries accepted 12/02 through 12/16</li>
	<li>Public ballot will be available 12/17 through 12/21</li>
	<li>Winners will be announced 12/23</li>
</ul>

DTSTART;TZID=America/New_York:20241213T000000
DTEND;TZID=America/New_York:20241213T235900
SUMMARY:2nd Annual Gingerbread House Competition
URL;VALUE=URI:/2nd-annual-gingerbread-house-competition-14
END:VEVENT
END:VCALENDAR