BEGIN:VCALENDAR
VERSION:2.0
PRODID:-//hacksw/handcal//NONSGML v1.0//EN
CALSCALE:GREGORIAN
BEGIN:VTIMEZONE
TZID:America/New_York
BEGIN:DAYLIGHT
TZOFFSETFROM:-0600
TZNAME:MDT
TZOFFSETTO:-0600
END:DAYLIGHT
END:VTIMEZONE
DTSTAMP:20260422T112352Z
UID:69e8e80881f9d
BEGIN:VEVENT
LOCATION:Laurens Branch (MAIN), 1017 W Main St, Laurens, SC US 29360
DESCRIPTION:<p>Have you ever wondered what you'd look like as a Lego figure? Design your very own mini-you in this fun-filled crafternnon!</p>

DTSTART;TZID=America/New_York:20240425T160000
DTEND;TZID=America/New_York:20240425T170000
SUMMARY:Crafternooners: Lego Figures
URL;VALUE=URI:/crafternooners-lego-figures-0
END:VEVENT
END:VCALENDAR